BEGIN:VCALENDAR
VERSION:2.0
PRODID:icalendar-ruby
CALSCALE:GREGORIAN
METHOD:PUBLISH
BEGIN:VEVENT
DTSTAMP:20260425T012652Z
UID:5-737752@vineyardbirmingham.tithelysetup2.com
DTSTART:20261101T170000Z
DTEND:20261101T180000Z
CLASS:PUBLIC
CREATED:20260424T195829
DESCRIPTION:Sunday Worship
LAST-MODIFIED:20260424T195829
LOCATION:
SUMMARY:Sunday Worship
URL;VALUE=URI:https://www.vbhm.org/events/sunday-worship/2026-11-01
END:VEVENT
END:VCALENDAR
