BEGIN:VCALENDAR
VERSION:2.0
PRODID:icalendar-ruby
CALSCALE:GREGORIAN
METHOD:PUBLISH
BEGIN:VEVENT
DTSTAMP:20260424T213559Z
UID:5-736992@vineyardbirmingham.tithelysetup2.com
DTSTART:20261018T160000Z
DTEND:20261018T170000Z
CLASS:PUBLIC
CREATED:20260424T142235
DESCRIPTION:Sunday Worship
LAST-MODIFIED:20260424T142235
LOCATION:
SUMMARY:Sunday Worship
URL;VALUE=URI:https://www.vbhm.org/events/sunday-worship/2026-10-18
END:VEVENT
END:VCALENDAR
