BEGIN:VCALENDAR
VERSION:2.0
PRODID:icalendar-ruby
CALSCALE:GREGORIAN
METHOD:PUBLISH
BEGIN:VEVENT
DTSTAMP:20260424T180704Z
UID:5-736611@vineyardbirmingham.tithelysetup2.com
DTSTART:20261004T160000Z
DTEND:20261004T170000Z
CLASS:PUBLIC
CREATED:20260424T113634
DESCRIPTION:Sunday Worship
LAST-MODIFIED:20260424T113634
LOCATION:
SUMMARY:Sunday Worship
URL;VALUE=URI:https://www.vbhm.org/events/sunday-worship/2026-10-04
END:VEVENT
END:VCALENDAR
