BEGIN:VCALENDAR
VERSION:2.0
PRODID:icalendar-ruby
CALSCALE:GREGORIAN
METHOD:PUBLISH
BEGIN:VEVENT
DTSTAMP:20260424T111635Z
UID:5-735849@vineyardbirmingham.tithelysetup2.com
DTSTART:20260906T160000Z
DTEND:20260906T170000Z
CLASS:PUBLIC
CREATED:20260424T055136
DESCRIPTION:Sunday Worship
LAST-MODIFIED:20260424T055136
LOCATION:
SUMMARY:Sunday Worship
URL;VALUE=URI:https://www.vbhm.org/events/sunday-worship/2026-09-06
END:VEVENT
END:VCALENDAR
