BEGIN:VCALENDAR
VERSION:2.0
PRODID:icalendar-ruby
CALSCALE:GREGORIAN
METHOD:PUBLISH
BEGIN:VEVENT
DTSTAMP:20260424T094439Z
UID:5-735469@vineyardbirmingham.tithelysetup2.com
DTSTART:20260830T160000Z
DTEND:20260830T170000Z
CLASS:PUBLIC
CREATED:20260423T202359
DESCRIPTION:Sunday Worship
LAST-MODIFIED:20260423T202359
LOCATION:
SUMMARY:Sunday Worship
URL;VALUE=URI:https://www.vbhm.org/events/sunday-worship/2026-08-30
END:VEVENT
END:VCALENDAR
